BEGIN:VCALENDAR
VERSION:2.0
PRODID:floktu.com
X-WR-TIMEZONE:Australia/Sydney
X-PUBLISHED-TTL:P1W
BEGIN:VEVENT
UID:FloktuEvent24930@floktu.com
DTSTART;TZID=Australia/Sydney:20200415T150000
SEQUENCE:0
TRANSP:OPAQUE
DTEND;TZID=Australia/Sydney:20200506T100000
SUMMARY:Mother's Day Raffle
DESCRIPTION:Visit https://24827.floktu.com for more information.
DTSTAMP:20260425T020537Z
END:VEVENT
BEGIN:VTIMEZONE
TZID:Australia/Sydney
X-LIC-LOCATION:Australia/Sydney
END:VTIMEZONE
END:VCALENDAR