BEGIN:VCALENDAR
VERSION:2.0
PRODID:floktu.com
X-PUBLISHED-TTL:P1W
BEGIN:VEVENT
UID:FloktuEvent24930@floktu.com
DTSTART:20200415T050000Z
SEQUENCE:0
TRANSP:OPAQUE
DTEND:20200506T000000Z
SUMMARY:Mother's Day Raffle
DESCRIPTION:Visit https://24827.floktu.com for more information.
DTSTAMP:20260425T020120Z
END:VEVENT
END:VCALENDAR